BEGIN:VCALENDAR
VERSION:2.0
PRODID:-//wp-events-plugin.com//7.2.3.1//EN
BEGIN:VEVENT
UID:115@m0juw.co.uk
DTSTART:20211228T193000Z
DTEND:20211228T203000Z
DTSTAMP:20211214T211651Z
URL:https://m0juw.co.uk/nets/2m-net-on-145-375-7-30pm-every-tuesday-3/
SUMMARY:2m Net on 145.375 +/- 7.30pm - Every Tuesday
DESCRIPTION:
END:VEVENT
END:VCALENDAR