BEGIN:VCALENDAR
VERSION:2.0
PRODID:-//wp-events-plugin.com//7.2.3.1//EN
BEGIN:VEVENT
UID:397@m0juw.co.uk
DTSTART:20221013T193000Z
DTEND:20221013T203000Z
DTSTAMP:20221006T144941Z
URL:https://m0juw.co.uk/nets/70cm-net-433-525mhz-from-7-30pm-with-simon-m7
 auc/
SUMMARY:70cm Net 433.525Mhz from 7.30pm with Simon M7AUC
DESCRIPTION:
END:VEVENT
END:VCALENDAR