BEGIN:VCALENDAR
VERSION:2.0
PRODID:-//wp-events-plugin.com//7.2.3.1//EN
BEGIN:VEVENT
UID:396@m0juw.co.uk
DTSTART;VALUE=DATE:20220827
DTEND;VALUE=DATE:20220829
DTSTAMP:20220823T190337Z
URL:https://m0juw.co.uk/nets/biwota-british-inland-waterways-on-the-air-bu
 gsworth-basin-with-nb-royal-oscar-and-nb-little-treasure/
SUMMARY:BIWOTA (British Inland Waterways on the Air) - Bugsworth Basin with
  NB Royal Oscar and NB Little Treasure
DESCRIPTION:Join us for BIWOTA on 2m\, 20m and 40m on both days
END:VEVENT
END:VCALENDAR