BEGIN:VCALENDAR
VERSION:2.0
PRODID:-//wp-events-plugin.com//7.2.3.1//EN
BEGIN:VEVENT
UID:61@m0juw.co.uk
DTSTART:20220203T193000Z
DTEND:20220203T193000Z
DTSTAMP:20211212T215818Z
URL:https://m0juw.co.uk/nets/club-night-at-st-marys-church-hall-reddish-7-
 30pm-3/
SUMMARY:Club Night at St Marys Church Hall Reddish - 7.30pm
DESCRIPTION:
END:VEVENT
END:VCALENDAR