BEGIN:VCALENDAR
VERSION:2.0
PRODID:-//wp-events-plugin.com//7.2.3.1//EN
BEGIN:VEVENT
UID:2160@m0juw.co.uk
DTSTART:20260423T193000Z
DTEND:20260423T203000Z
DTSTAMP:20260331T094154Z
URL:https://m0juw.co.uk/nets/join-adrian-g0ehg-for-the-monthly-c4fm-net-7-
 30pm-2026-04-23/
SUMMARY:Join Adrian G0EHG for the monthly C4FM Net 7.30pm
DESCRIPTION:
END:VEVENT
END:VCALENDAR